BEGIN:VCALENDAR
PRODID:-//Pixl8//Eventfolio//EN
VERSION:2.0
X-WR-TIMEZONE:Australia/Brisbane
CALSCALE:GREGORIAN
METHOD:PUBLISH
CLASS:PUBLIC
BEGIN:VTIMEZONE
TZID:Australia/Brisbane
LAST-MODIFIED:20260306T231828Z
TZURL:https://www.tzurl.org/zoneinfo-outlook/Australia/Brisbane
X-LIC-LOCATION:Australia/Brisbane
BEGIN:STANDARD
TZNAME:AEST
TZOFFSETFROM:+1000
TZOFFSETTO:+1000
DTSTART:19700101T000000
END:STANDARD
END:VTIMEZONE
BEGIN:VEVENT
DTSTART;TZID=Australia/Brisbane:20230803T120000
DTEND;TZID=Australia/Brisbane:20230803T150000
DTSTAMP:20260423T210829Z
UID:{DBE613BB-2B7C-486E-AA51945B0DF10F49}
LOCATION:Online - Microsoft Teams
SUMMARY:Metadata Fundamentals & Values
DESCRIPTION:Don’t we all want to have reliable and trustworthy records?\n
 \n
 Event details: https://www.rimpa.com.au/events/ems-events-calendar/03-08-2023-metadata-fundamentals-values.html
PRIORITY:1
END:VEVENT
END:VCALENDAR