BEGIN:VCALENDAR
PRODID:-//Pixl8//Eventfolio//EN
VERSION:2.0
X-WR-TIMEZONE:Australia/Melbourne
CALSCALE:GREGORIAN
METHOD:PUBLISH
CLASS:PUBLIC
BEGIN:VTIMEZONE
TZID:Australia/Melbourne
LAST-MODIFIED:20260306T231828Z
TZURL:https://www.tzurl.org/zoneinfo-outlook/Australia/Melbourne
X-LIC-LOCATION:Australia/Melbourne
BEGIN:STANDARD
TZNAME:AEST
TZOFFSETFROM:+1100
TZOFFSETTO:+1000
DTSTART:19700405T030000
RRULE:FREQ=YEARLY;BYMONTH=4;BYDAY=1SU
END:STANDARD
BEGIN:DAYLIGHT
TZNAME:AEDT
TZOFFSETFROM:+1000
TZOFFSETTO:+1100
DTSTART:19701004T020000
RRULE:FREQ=YEARLY;BYMONTH=10;BYDAY=1SU
END:DAYLIGHT
END:VTIMEZONE
BEGIN:VEVENT
DTSTART;TZID=Australia/Melbourne:20241129T120000
DTEND;TZID=Australia/Melbourne:20241129T140000
DTSTAMP:20260423T211637Z
UID:{96DD2852-097A-4688-BFBF0CD2B31838B7}
LOCATION:The Wharf Hotel\, 18/38 Siddeley St\, Docklands VIC 3008
SUMMARY:A Merry Mix & Mingle | Melbourne
DESCRIPTION:Celebrate the magic of Christmas with us! Join for an lunch filled with holiday cheer, warm connections, and festive celebration. 🎄✨ Let’s make this Christmas gathering a day to remember!\n
 \n
 Event details: https://www.rimpa.com.au/events/ems-events-calendar/a-merry-mix-mingle-melbourne.html
PRIORITY:1
END:VEVENT
END:VCALENDAR