BEGIN:VCALENDAR
PRODID:-//Pixl8//Eventfolio//EN
VERSION:2.0
X-WR-TIMEZONE:Australia/Brisbane
CALSCALE:GREGORIAN
METHOD:PUBLISH
CLASS:PUBLIC
BEGIN:VTIMEZONE
TZID:Australia/Brisbane
LAST-MODIFIED:20260306T231828Z
TZURL:https://www.tzurl.org/zoneinfo-outlook/Australia/Brisbane
X-LIC-LOCATION:Australia/Brisbane
BEGIN:STANDARD
TZNAME:AEST
TZOFFSETFROM:+1000
TZOFFSETTO:+1000
DTSTART:19700101T000000
END:STANDARD
END:VTIMEZONE
BEGIN:VEVENT
DTSTART;TZID=Australia/Brisbane:20241206T070000
DTEND;TZID=Australia/Brisbane:20241206T090000
DTSTAMP:20260423T140220Z
UID:{B1433F03-C69D-441B-B41B7082CF540325}
LOCATION:Hotel Grand Chancellor Townsville\, 334 Flinders Street\, Townsville
SUMMARY:A Merry Mix & Mingle | Townsville
DESCRIPTION:Celebrate the magic of Christmas with us! Join for an breakfast filled with holiday cheer, warm connections, and festive celebration. 🎄✨ Let’s make this Christmas gathering a morning to remember!\n
 \n
 Event details: https://www.rimpa.com.au/events/ems-events-calendar/a-merry-mix-mingle-townsville.html
PRIORITY:1
END:VEVENT
END:VCALENDAR