BEGIN:VCALENDAR
PRODID:-//Pixl8//Eventfolio//EN
VERSION:2.0
X-WR-TIMEZONE:Australia/Brisbane
CALSCALE:GREGORIAN
METHOD:PUBLISH
CLASS:PUBLIC
BEGIN:VTIMEZONE
TZID:Australia/Brisbane
LAST-MODIFIED:20260306T231828Z
TZURL:https://www.tzurl.org/zoneinfo-outlook/Australia/Brisbane
X-LIC-LOCATION:Australia/Brisbane
BEGIN:STANDARD
TZNAME:AEST
TZOFFSETFROM:+1000
TZOFFSETTO:+1000
DTSTART:19700101T000000
END:STANDARD
END:VTIMEZONE
BEGIN:VEVENT
DTSTART;TZID=Australia/Brisbane:20230420T130000
DTEND;TZID=Australia/Brisbane:20230420T160000
DTSTAMP:20260424T021622Z
UID:{AC9029C4-AF20-412E-AE5EEB69639D29BE}
LOCATION:Online - Microsoft Teams
SUMMARY:Appraisal, Sentencing and Archiving Fundamentals
DESCRIPTION:We create records everyday, but can we really keep all these records? There will be a time when certain records will no longer be required, and we will need to know what to do and how to do it.\n
 \n
 Event details: https://www.rimpa.com.au/events/ems-events-calendar/appraisal-sentencing-and-archiving-fundamentals.html
PRIORITY:1
END:VEVENT
END:VCALENDAR