BEGIN:VCALENDAR
PRODID:-//Pixl8//Eventfolio//EN
VERSION:2.0
X-WR-TIMEZONE:Australia/Brisbane
CALSCALE:GREGORIAN
METHOD:PUBLISH
CLASS:PUBLIC
BEGIN:VTIMEZONE
TZID:Australia/Brisbane
LAST-MODIFIED:20260306T231828Z
TZURL:https://www.tzurl.org/zoneinfo-outlook/Australia/Brisbane
X-LIC-LOCATION:Australia/Brisbane
BEGIN:STANDARD
TZNAME:AEST
TZOFFSETFROM:+1000
TZOFFSETTO:+1000
DTSTART:19700101T000000
END:STANDARD
END:VTIMEZONE
BEGIN:VEVENT
DTSTART;TZID=Australia/Brisbane:20230517T130000
DTEND;TZID=Australia/Brisbane:20230517T160000
DTSTAMP:20260424T055320Z
UID:{D04CA043-3258-406E-9343D6DC574D75CC}
LOCATION:Online - Microsoft Teams
SUMMARY:Archival Preservation and Embarking on a Preservation Project
DESCRIPTION:Since the 1980s, the library and archival community have used "preservation" as an umbrella term for activities that reduce or prevent chemical and physical deterioration or damage in order to prevent loss of informational content and extend the life expectancy of collections. \n
 \n
 Event details: https://www.rimpa.com.au/events/ems-events-calendar/archival-preservation-and-embarking-on-a-preservation-project.html
PRIORITY:1
END:VEVENT
END:VCALENDAR