BEGIN:VCALENDAR
PRODID:-//Pixl8//Eventfolio//EN
VERSION:2.0
X-WR-TIMEZONE:Australia/Brisbane
CALSCALE:GREGORIAN
METHOD:PUBLISH
CLASS:PUBLIC
BEGIN:VTIMEZONE
TZID:Australia/Brisbane
LAST-MODIFIED:20260306T231828Z
TZURL:https://www.tzurl.org/zoneinfo-outlook/Australia/Brisbane
X-LIC-LOCATION:Australia/Brisbane
BEGIN:STANDARD
TZNAME:AEST
TZOFFSETFROM:+1000
TZOFFSETTO:+1000
DTSTART:19700101T000000
END:STANDARD
END:VTIMEZONE
BEGIN:VEVENT
DTSTART;TZID=Australia/Brisbane:20230427T130000
DTEND;TZID=Australia/Brisbane:20230427T160000
DTSTAMP:20260426T013242Z
UID:{0314E862-A9D2-4157-80D44F6705D97E0C}
LOCATION:Online - Microsoft Teams
SUMMARY:Audit-Understanding, Preparation and Readiness
DESCRIPTION:Do you want a smoother process when working with auditors? Are you eager to understand quality audit and collaborate with auditors?\n
 \n
 Let’s make our lives and the lives of auditors easy and a lot smoother rather than seeing them as a threat.\n
 \n
 Event details: https://www.rimpa.com.au/events/ems-events-calendar/audit-understanding-preparation-and-readiness.html
PRIORITY:1
END:VEVENT
END:VCALENDAR