BEGIN:VCALENDAR
PRODID:-//Pixl8//Eventfolio//EN
VERSION:2.0
X-WR-TIMEZONE:Australia/Brisbane
CALSCALE:GREGORIAN
METHOD:PUBLISH
CLASS:PUBLIC
BEGIN:VTIMEZONE
TZID:Australia/Brisbane
LAST-MODIFIED:20260306T231828Z
TZURL:https://www.tzurl.org/zoneinfo-outlook/Australia/Brisbane
X-LIC-LOCATION:Australia/Brisbane
BEGIN:STANDARD
TZNAME:AEST
TZOFFSETFROM:+1000
TZOFFSETTO:+1000
DTSTART:19700101T000000
END:STANDARD
END:VTIMEZONE
BEGIN:VEVENT
DTSTART;TZID=Australia/Brisbane:20250807T140000
DTEND;TZID=Australia/Brisbane:20250807T170000
DTSTAMP:20260423T210833Z
UID:{47B3383C-7BA9-40BE-AB20AEC0A53C5834}
LOCATION:Online - Microsoft Teams
SUMMARY:Big Data and Digital Transformation
DESCRIPTION:Big data! Everyone speaks about it, but do we really know what it is and how we can benefit from it?\n
 \n
 Event details: https://www.rimpa.com.au/events/ems-events-calendar/big-data-and-digital-transformation-07-08-2025.html
PRIORITY:1
END:VEVENT
END:VCALENDAR