BEGIN:VCALENDAR
PRODID:-//Pixl8//Eventfolio//EN
VERSION:2.0
X-WR-TIMEZONE:Australia/Brisbane
CALSCALE:GREGORIAN
METHOD:PUBLISH
CLASS:PUBLIC
BEGIN:VTIMEZONE
TZID:Australia/Brisbane
LAST-MODIFIED:20260306T231828Z
TZURL:https://www.tzurl.org/zoneinfo-outlook/Australia/Brisbane
X-LIC-LOCATION:Australia/Brisbane
BEGIN:STANDARD
TZNAME:AEST
TZOFFSETFROM:+1000
TZOFFSETTO:+1000
DTSTART:19700101T000000
END:STANDARD
END:VTIMEZONE
BEGIN:VEVENT
DTSTART;TZID=Australia/Brisbane:20250717T083000
DTEND;TZID=Australia/Brisbane:20250717T160000
DTSTAMP:20260423T211534Z
UID:{C6CBE26B-1913-4805-B75D938AC9335930.45855}
LOCATION:Rydges South Bank\, 9 Glenelg St\, South Brisbane QLD 4101
SUMMARY:Brisbane | Roadshow
DESCRIPTION:Join the RIMPA Roadshow, a one-day conference focused on protecting your organisation's data and privacy. Learn from experts, participate in workshop, to outsmart cyber threats, neutralise risks, and safeguard your organisation’s records with a License to Protect. Register now!\n
 \n
 Event details: https://www.rimpa.com.au/events/ems-events-calendar/brisbane--roadshow.html
PRIORITY:1
END:VEVENT
END:VCALENDAR