BEGIN:VCALENDAR
PRODID:-//Pixl8//Eventfolio//EN
VERSION:2.0
X-WR-TIMEZONE:Australia/Brisbane
CALSCALE:GREGORIAN
METHOD:PUBLISH
CLASS:PUBLIC
BEGIN:VTIMEZONE
TZID:Australia/Brisbane
LAST-MODIFIED:20260306T231828Z
TZURL:https://www.tzurl.org/zoneinfo-outlook/Australia/Brisbane
X-LIC-LOCATION:Australia/Brisbane
BEGIN:STANDARD
TZNAME:AEST
TZOFFSETFROM:+1000
TZOFFSETTO:+1000
DTSTART:19700101T000000
END:STANDARD
END:VTIMEZONE
BEGIN:VEVENT
DTSTART;TZID=Australia/Brisbane:20251106T100000
DTEND;TZID=Australia/Brisbane:20251106T130000
DTSTAMP:20260424T021931Z
UID:{CF65F7CD-1ECE-4480-B6AB57A7B825E155}
LOCATION:Online - Microsoft Teams
SUMMARY:Business Analysis for Information Management Professionals
DESCRIPTION:Transform information management with business analysis techniques to drive success and master the information lifecycle.\n
 \n
 Event details: https://www.rimpa.com.au/events/ems-events-calendar/business-analysis-for-information-management-professionals-06-11-2025.html
PRIORITY:1
END:VEVENT
END:VCALENDAR