BEGIN:VCALENDAR
PRODID:-//Pixl8//Eventfolio//EN
VERSION:2.0
X-WR-TIMEZONE:Australia/Brisbane
CALSCALE:GREGORIAN
METHOD:PUBLISH
CLASS:PUBLIC
BEGIN:VTIMEZONE
TZID:Australia/Brisbane
LAST-MODIFIED:20260306T231828Z
TZURL:https://www.tzurl.org/zoneinfo-outlook/Australia/Brisbane
X-LIC-LOCATION:Australia/Brisbane
BEGIN:STANDARD
TZNAME:AEST
TZOFFSETFROM:+1000
TZOFFSETTO:+1000
DTSTART:19700101T000000
END:STANDARD
END:VTIMEZONE
BEGIN:VEVENT
DTSTART;TZID=Australia/Brisbane:20240529T100000
DTEND;TZID=Australia/Brisbane:20240529T130000
DTSTAMP:20260424T021446Z
UID:{36E6ECDC-C755-4693-8BA12A021C5E8134}
LOCATION:Online - Microsoft Teams
SUMMARY:Change Management for Information Management 
DESCRIPTION:Change Management plays a vital part in the success of your records and information management projects.\n
 \n
 Event details: https://www.rimpa.com.au/events/ems-events-calendar/change-management-for-information-management-29-05-24.html
PRIORITY:1
END:VEVENT
END:VCALENDAR