BEGIN:VCALENDAR
PRODID:-//Pixl8//Eventfolio//EN
VERSION:2.0
X-WR-TIMEZONE:Australia/Brisbane
CALSCALE:GREGORIAN
METHOD:PUBLISH
CLASS:PUBLIC
BEGIN:VTIMEZONE
TZID:Australia/Brisbane
LAST-MODIFIED:20260306T231828Z
TZURL:https://www.tzurl.org/zoneinfo-outlook/Australia/Brisbane
X-LIC-LOCATION:Australia/Brisbane
BEGIN:STANDARD
TZNAME:AEST
TZOFFSETFROM:+1000
TZOFFSETTO:+1000
DTSTART:19700101T000000
END:STANDARD
END:VTIMEZONE
BEGIN:VEVENT
DTSTART;TZID=Australia/Brisbane:20230518T090000
DTEND;TZID=Australia/Brisbane:20230518T120000
DTSTAMP:20260424T033819Z
UID:{412FB060-C0D6-4648-84EA34F3A984F157}
LOCATION:Online - Microsoft Teams
SUMMARY:Creating & Managing a Digital Information Framework
DESCRIPTION:What is a digital information framework and what are the components of a digital information strategy?\n
 \n
 Event details: https://www.rimpa.com.au/events/ems-events-calendar/creating-managing-a-digital-information-framework.html
PRIORITY:1
END:VEVENT
END:VCALENDAR