BEGIN:VCALENDAR
PRODID:-//Pixl8//Eventfolio//EN
VERSION:2.0
X-WR-TIMEZONE:Australia/Brisbane
CALSCALE:GREGORIAN
METHOD:PUBLISH
CLASS:PUBLIC
BEGIN:VTIMEZONE
TZID:Australia/Brisbane
LAST-MODIFIED:20260306T231828Z
TZURL:https://www.tzurl.org/zoneinfo-outlook/Australia/Brisbane
X-LIC-LOCATION:Australia/Brisbane
BEGIN:STANDARD
TZNAME:AEST
TZOFFSETFROM:+1000
TZOFFSETTO:+1000
DTSTART:19700101T000000
END:STANDARD
END:VTIMEZONE
BEGIN:VEVENT
DTSTART;TZID=Australia/Brisbane:20230523T100000
DTEND;TZID=Australia/Brisbane:20230523T130000
DTSTAMP:20260423T222030Z
UID:{D613C2AC-0442-4228-87A79096629C87A6}
LOCATION:Online - Microsoft Teams
SUMMARY:Cyber Attacks & Cyber Awareness for the Workplace
DESCRIPTION:Do you agree that cyber awareness is a crucial element of our information governance and security policies and procedures?\n
 \n
 Event details: https://www.rimpa.com.au/events/ems-events-calendar/cyber-attacks-cyber-awareness-for-the-workplace.html
PRIORITY:1
END:VEVENT
END:VCALENDAR