BEGIN:VCALENDAR
PRODID:-//Pixl8//Eventfolio//EN
VERSION:2.0
X-WR-TIMEZONE:Australia/Brisbane
CALSCALE:GREGORIAN
METHOD:PUBLISH
CLASS:PUBLIC
BEGIN:VTIMEZONE
TZID:Australia/Brisbane
LAST-MODIFIED:20260306T231828Z
TZURL:https://www.tzurl.org/zoneinfo-outlook/Australia/Brisbane
X-LIC-LOCATION:Australia/Brisbane
BEGIN:STANDARD
TZNAME:AEST
TZOFFSETFROM:+1000
TZOFFSETTO:+1000
DTSTART:19700101T000000
END:STANDARD
END:VTIMEZONE
BEGIN:VEVENT
DTSTART;TZID=Australia/Brisbane:20230511T090000
DTEND;TZID=Australia/Brisbane:20230511T120000
DTSTAMP:20260424T021318Z
UID:{012E5D2E-A68D-4307-90CDACD0B7F0F6FE}
LOCATION:Online - Microsoft Teams
SUMMARY:Cyber Security awareness and Best Practice
DESCRIPTION:The terms cybersecurity and information security are often used interchangeably, however, they each address a different kind of security.\n
 \n
 Event details: https://www.rimpa.com.au/events/ems-events-calendar/cyber-security-awareness-and-best-practice.html
PRIORITY:1
END:VEVENT
END:VCALENDAR