BEGIN:VCALENDAR
PRODID:-//Pixl8//Eventfolio//EN
VERSION:2.0
X-WR-TIMEZONE:Australia/Brisbane
CALSCALE:GREGORIAN
METHOD:PUBLISH
CLASS:PUBLIC
BEGIN:VTIMEZONE
TZID:Australia/Brisbane
LAST-MODIFIED:20260306T231828Z
TZURL:https://www.tzurl.org/zoneinfo-outlook/Australia/Brisbane
X-LIC-LOCATION:Australia/Brisbane
BEGIN:STANDARD
TZNAME:AEST
TZOFFSETFROM:+1000
TZOFFSETTO:+1000
DTSTART:19700101T000000
END:STANDARD
END:VTIMEZONE
BEGIN:VEVENT
DTSTART;TZID=Australia/Brisbane:20230601T130000
DTEND;TZID=Australia/Brisbane:20230601T160000
DTSTAMP:20260423T210715Z
UID:{1A438BD5-E5B9-46F3-B5898D39AA51FAD0}
LOCATION:Online - Microsoft Teams
SUMMARY:Develop a Risk Matrix for Digitisation
DESCRIPTION:Managing Risks doesn’t mean there will be no risk; we manage risks for us to know if they are worth taking!\n
 \n
 Event details: https://www.rimpa.com.au/events/ems-events-calendar/develop-a-risk-matrix-for-digitisation-01-06-2023.html
PRIORITY:1
END:VEVENT
END:VCALENDAR