BEGIN:VCALENDAR
PRODID:-//Pixl8//Eventfolio//EN
VERSION:2.0
X-WR-TIMEZONE:Australia/Brisbane
CALSCALE:GREGORIAN
METHOD:PUBLISH
CLASS:PUBLIC
BEGIN:VTIMEZONE
TZID:Australia/Brisbane
LAST-MODIFIED:20260306T231828Z
TZURL:https://www.tzurl.org/zoneinfo-outlook/Australia/Brisbane
X-LIC-LOCATION:Australia/Brisbane
BEGIN:STANDARD
TZNAME:AEST
TZOFFSETFROM:+1000
TZOFFSETTO:+1000
DTSTART:19700101T000000
END:STANDARD
END:VTIMEZONE
BEGIN:VEVENT
DTSTART;TZID=Australia/Brisbane:20260527T100000
DTEND;TZID=Australia/Brisbane:20260527T130000
DTSTAMP:20260423T140113Z
UID:{3AB03B55-DC89-4654-988E1D97F80AA92F}
LOCATION:Online - Microsoft Teams
SUMMARY:Developing and Implementing Classification Schemes
DESCRIPTION:After knowing why we classify records and have gone through the process of developing a classification scheme, the next stage will be implementation.\n
 \n
 Event details: https://www.rimpa.com.au/events/ems-events-calendar/developing-and-implementing-classification-scheme.html
PRIORITY:1
END:VEVENT
END:VCALENDAR