BEGIN:VCALENDAR
PRODID:-//Pixl8//Eventfolio//EN
VERSION:2.0
X-WR-TIMEZONE:Australia/Brisbane
CALSCALE:GREGORIAN
METHOD:PUBLISH
CLASS:PUBLIC
BEGIN:VTIMEZONE
TZID:Australia/Brisbane
LAST-MODIFIED:20260306T231828Z
TZURL:https://www.tzurl.org/zoneinfo-outlook/Australia/Brisbane
X-LIC-LOCATION:Australia/Brisbane
BEGIN:STANDARD
TZNAME:AEST
TZOFFSETFROM:+1000
TZOFFSETTO:+1000
DTSTART:19700101T000000
END:STANDARD
END:VTIMEZONE
BEGIN:VEVENT
DTSTART;TZID=Australia/Brisbane:20230511T130000
DTEND;TZID=Australia/Brisbane:20230511T160000
DTSTAMP:20260423T230131Z
UID:{602283D5-3DC2-419A-B1EF2BD21BEF1BFB}
LOCATION:Online - Microsoft Teams
SUMMARY:Developing Classification Scheme
DESCRIPTION:Why do we classify records and how do we develop the best classification schemes for our organisations?\n
 \n
 Event details: https://www.rimpa.com.au/events/ems-events-calendar/developing-classification-scheme.html
PRIORITY:1
END:VEVENT
END:VCALENDAR