BEGIN:VCALENDAR
PRODID:-//Pixl8//Eventfolio//EN
VERSION:2.0
X-WR-TIMEZONE:Australia/Brisbane
CALSCALE:GREGORIAN
METHOD:PUBLISH
CLASS:PUBLIC
BEGIN:VTIMEZONE
TZID:Australia/Brisbane
LAST-MODIFIED:20260306T231828Z
TZURL:https://www.tzurl.org/zoneinfo-outlook/Australia/Brisbane
X-LIC-LOCATION:Australia/Brisbane
BEGIN:STANDARD
TZNAME:AEST
TZOFFSETFROM:+1000
TZOFFSETTO:+1000
DTSTART:19700101T000000
END:STANDARD
END:VTIMEZONE
BEGIN:VEVENT
DTSTART;TZID=Australia/Brisbane:20260618T100000
DTEND;TZID=Australia/Brisbane:20260618T130000
DTSTAMP:20260423T211654Z
UID:{59812101-2111-40AD-9E0D7DA79FAD33AF}
LOCATION:Online - Microsoft Teams
SUMMARY:Development of Records Management Online Training
DESCRIPTION:In this ever-changing environment, it has become increasingly important to consider and implement online training options for your business.\n
 \n
 Event details: https://www.rimpa.com.au/events/ems-events-calendar/development-of-records-management-online-trainin.html
PRIORITY:1
END:VEVENT
END:VCALENDAR