BEGIN:VCALENDAR
PRODID:-//Pixl8//Eventfolio//EN
VERSION:2.0
X-WR-TIMEZONE:Australia/Brisbane
CALSCALE:GREGORIAN
METHOD:PUBLISH
CLASS:PUBLIC
BEGIN:VTIMEZONE
TZID:Australia/Brisbane
LAST-MODIFIED:20260306T231828Z
TZURL:https://www.tzurl.org/zoneinfo-outlook/Australia/Brisbane
X-LIC-LOCATION:Australia/Brisbane
BEGIN:STANDARD
TZNAME:AEST
TZOFFSETFROM:+1000
TZOFFSETTO:+1000
DTSTART:19700101T000000
END:STANDARD
END:VTIMEZONE
BEGIN:VEVENT
DTSTART;TZID=Australia/Brisbane:20250905T100000
DTEND;TZID=Australia/Brisbane:20250905T130000
DTSTAMP:20260424T034802Z
UID:{97ECCB25-8DA0-4667-91F348F6FA691815}
LOCATION:Online - Microsoft Teams
SUMMARY:Diploma of Business (Records & Information Management)
DESCRIPTION:Event details: https://www.rimpa.com.au/events/ems-events-calendar/diploma-of-business-records-information-management-5-sep.html
PRIORITY:1
END:VEVENT
END:VCALENDAR