BEGIN:VCALENDAR
PRODID:-//Pixl8//Eventfolio//EN
VERSION:2.0
X-WR-TIMEZONE:Australia/Brisbane
CALSCALE:GREGORIAN
METHOD:PUBLISH
CLASS:PUBLIC
BEGIN:VTIMEZONE
TZID:Australia/Brisbane
LAST-MODIFIED:20260306T231828Z
TZURL:https://www.tzurl.org/zoneinfo-outlook/Australia/Brisbane
X-LIC-LOCATION:Australia/Brisbane
BEGIN:STANDARD
TZNAME:AEST
TZOFFSETFROM:+1000
TZOFFSETTO:+1000
DTSTART:19700101T000000
END:STANDARD
END:VTIMEZONE
BEGIN:VEVENT
DTSTART;TZID=Australia/Brisbane:20231031T100000
DTEND;TZID=Australia/Brisbane:20231031T130000
DTSTAMP:20260423T210709Z
UID:{F9202E58-2110-4F39-B0283FAA1520D871}
LOCATION:Online - Microsoft Teams
SUMMARY:Discounted Workshop Packs
DESCRIPTION:Prepay for workshop packs now and attend later. \n
 \n
 (Save 10% when you pre-purchase 5 workshop slots or Save 15% when you pre-purchase 10 workshop slots)\n
 \n
 Event details: https://www.rimpa.com.au/events/ems-events-calendar/discounted-workshop-packs.html
PRIORITY:1
END:VEVENT
END:VCALENDAR