BEGIN:VCALENDAR
PRODID:-//Pixl8//Eventfolio//EN
VERSION:2.0
X-WR-TIMEZONE:Australia/Brisbane
CALSCALE:GREGORIAN
METHOD:PUBLISH
CLASS:PUBLIC
BEGIN:VTIMEZONE
TZID:Australia/Brisbane
LAST-MODIFIED:20260306T231828Z
TZURL:https://www.tzurl.org/zoneinfo-outlook/Australia/Brisbane
X-LIC-LOCATION:Australia/Brisbane
BEGIN:STANDARD
TZNAME:AEST
TZOFFSETFROM:+1000
TZOFFSETTO:+1000
DTSTART:19700101T000000
END:STANDARD
END:VTIMEZONE
BEGIN:VEVENT
DTSTART;TZID=Australia/Brisbane:20230428T100000
DTEND;TZID=Australia/Brisbane:20230428T130000
DTSTAMP:20260424T021311Z
UID:{027B7871-8840-4A26-AABFBF7F33875B0C}
LOCATION:Online - Microsoft Teams
SUMMARY:eDRMS Business Requirements
DESCRIPTION:The effective implementation of any eDRMS software is the result of extensive planning and consultation. Is your organisation already using an eDRMS? Do you need to change and would like to understand the business requirements for an eDRMS?\n
 \n
 Event details: https://www.rimpa.com.au/events/ems-events-calendar/edrms-business-requirements.html
PRIORITY:1
END:VEVENT
END:VCALENDAR