BEGIN:VCALENDAR
PRODID:-//Pixl8//Eventfolio//EN
VERSION:2.0
X-WR-TIMEZONE:Australia/Brisbane
CALSCALE:GREGORIAN
METHOD:PUBLISH
CLASS:PUBLIC
BEGIN:VTIMEZONE
TZID:Australia/Brisbane
LAST-MODIFIED:20260306T231828Z
TZURL:https://www.tzurl.org/zoneinfo-outlook/Australia/Brisbane
X-LIC-LOCATION:Australia/Brisbane
BEGIN:STANDARD
TZNAME:AEST
TZOFFSETFROM:+1000
TZOFFSETTO:+1000
DTSTART:19700101T000000
END:STANDARD
END:VTIMEZONE
BEGIN:VEVENT
DTSTART;TZID=Australia/Brisbane:20230622T090000
DTEND;TZID=Australia/Brisbane:20230622T120000
DTSTAMP:20260423T211728Z
UID:{94F61864-B3B0-44E0-BEF0CFD53BB39993}
LOCATION:Online - Microsoft Teams
SUMMARY:eDRMS Business Requirements
DESCRIPTION:Is your organisation already using an eDRMS? Do you need to change and would like to understand the business requirements for an eDRMS?\n
 \n
 Event details: https://www.rimpa.com.au/events/ems-events-calendar/edrms-business-requirements-22-06-2023.html
PRIORITY:1
END:VEVENT
END:VCALENDAR