BEGIN:VCALENDAR
PRODID:-//Pixl8//Eventfolio//EN
VERSION:2.0
X-WR-TIMEZONE:Australia/Brisbane
CALSCALE:GREGORIAN
METHOD:PUBLISH
CLASS:PUBLIC
BEGIN:VTIMEZONE
TZID:Australia/Brisbane
LAST-MODIFIED:20260306T231828Z
TZURL:https://www.tzurl.org/zoneinfo-outlook/Australia/Brisbane
X-LIC-LOCATION:Australia/Brisbane
BEGIN:STANDARD
TZNAME:AEST
TZOFFSETFROM:+1000
TZOFFSETTO:+1000
DTSTART:19700101T000000
END:STANDARD
END:VTIMEZONE
BEGIN:VEVENT
DTSTART;TZID=Australia/Brisbane:20230630T100000
DTEND;TZID=Australia/Brisbane:20230630T130000
DTSTAMP:20260426T022403Z
UID:{FE900577-E36A-4191-80089F1EEF7D9D48}
LOCATION:Online - Microsoft Teams
SUMMARY:EOFY Prepaid Workshop Packs
DESCRIPTION:Prepay for workshop packs now and send your team members to attend later. \n
 \n
 (Save 10% when you pre-purchase 5 workshop slots or Save 15% when you pre-purchase 10 workshop slots)\n
 \n
 Event details: https://www.rimpa.com.au/events/ems-events-calendar/eofy-prepaid-workshop-packs.html
PRIORITY:1
END:VEVENT
END:VCALENDAR