BEGIN:VCALENDAR
PRODID:-//Pixl8//Eventfolio//EN
VERSION:2.0
X-WR-TIMEZONE:Australia/Brisbane
CALSCALE:GREGORIAN
METHOD:PUBLISH
CLASS:PUBLIC
BEGIN:VTIMEZONE
TZID:Australia/Brisbane
LAST-MODIFIED:20260306T231828Z
TZURL:https://www.tzurl.org/zoneinfo-outlook/Australia/Brisbane
X-LIC-LOCATION:Australia/Brisbane
BEGIN:STANDARD
TZNAME:AEST
TZOFFSETFROM:+1000
TZOFFSETTO:+1000
DTSTART:19700101T000000
END:STANDARD
END:VTIMEZONE
BEGIN:VEVENT
DTSTART;TZID=Australia/Brisbane:20240807T100000
DTEND;TZID=Australia/Brisbane:20240807T120000
DTSTAMP:20260422T144328Z
UID:{BF18F225-28E7-4487-92E177CA5470CEC9}
LOCATION:Online - Microsoft Teams
SUMMARY:Fundamentals of Appraisal, Sentencing, and Archiving for Schools
DESCRIPTION:Event details: https://www.rimpa.com.au/events/ems-events-calendar/fundamentals-of-appraisal-sentencing-and-archiving-for-schools.html
PRIORITY:1
END:VEVENT
END:VCALENDAR