BEGIN:VCALENDAR
PRODID:-//Pixl8//Eventfolio//EN
VERSION:2.0
X-WR-TIMEZONE:Australia/Brisbane
CALSCALE:GREGORIAN
METHOD:PUBLISH
CLASS:PUBLIC
BEGIN:VTIMEZONE
TZID:Australia/Brisbane
LAST-MODIFIED:20260306T231828Z
TZURL:https://www.tzurl.org/zoneinfo-outlook/Australia/Brisbane
X-LIC-LOCATION:Australia/Brisbane
BEGIN:STANDARD
TZNAME:AEST
TZOFFSETFROM:+1000
TZOFFSETTO:+1000
DTSTART:19700101T000000
END:STANDARD
END:VTIMEZONE
BEGIN:VEVENT
DTSTART;TZID=Australia/Brisbane:20230919T100000
DTEND;TZID=Australia/Brisbane:20230919T130000
DTSTAMP:20260424T034305Z
UID:{87BE54B3-EA79-4BF8-8B886373558A5968}
LOCATION:Online - Microsoft Teams
SUMMARY:Fundamentals of Artificial Intelligence & Machine Learning
DESCRIPTION:Information Management is no longer about document management and archiving because the intelligence that we have has become vital in making business decisions.\n
 \n
 Event details: https://www.rimpa.com.au/events/ems-events-calendar/fundamentals-of-artificial-intelligence-machine-learning.html
PRIORITY:1
END:VEVENT
END:VCALENDAR