BEGIN:VCALENDAR
PRODID:-//Pixl8//Eventfolio//EN
VERSION:2.0
X-WR-TIMEZONE:Australia/Brisbane
CALSCALE:GREGORIAN
METHOD:PUBLISH
CLASS:PUBLIC
BEGIN:VTIMEZONE
TZID:Australia/Brisbane
LAST-MODIFIED:20260306T231828Z
TZURL:https://www.tzurl.org/zoneinfo-outlook/Australia/Brisbane
X-LIC-LOCATION:Australia/Brisbane
BEGIN:STANDARD
TZNAME:AEST
TZOFFSETFROM:+1000
TZOFFSETTO:+1000
DTSTART:19700101T000000
END:STANDARD
END:VTIMEZONE
BEGIN:VEVENT
DTSTART;TZID=Australia/Brisbane:20231002T070000
DTEND;TZID=Australia/Brisbane:20231002T190000
DTSTAMP:20260424T021149Z
UID:{BC5E1956-3F7D-4A60-9ADF8039782E2573.45201}
LOCATION:Attend In-Person or Virtually
SUMMARY:Hackathon 2023
DESCRIPTION:Join us at RIMPA Hackathon 2023 for a weekend of innovation and teamwork! Gather your squad to tackle industry challenges and vie for a chance to win $10,000. Ignite your problem-solving skills and seize the opportunity to make a real impact. Dive into the exciting world of technology and creativity from. Don't miss out on this chance to shine and shape the future!\n
 \n
 Event details: https://www.rimpa.com.au/events/ems-events-calendar/hackathon-2023.html
PRIORITY:1
END:VEVENT
BEGIN:VEVENT
DTSTART;TZID=Australia/Brisbane:20231003T070000
DTEND;TZID=Australia/Brisbane:20231003T140000
DTSTAMP:20260424T021149Z
UID:{BC5E1956-3F7D-4A60-9ADF8039782E2573.45202}
LOCATION:Attend In-Person or Virtually
SUMMARY:Hackathon 2023
DESCRIPTION:Join us at RIMPA Hackathon 2023 for a weekend of innovation and teamwork! Gather your squad to tackle industry challenges and vie for a chance to win $10,000. Ignite your problem-solving skills and seize the opportunity to make a real impact. Dive into the exciting world of technology and creativity from. Don't miss out on this chance to shine and shape the future!\n
 \n
 Event details: https://www.rimpa.com.au/events/ems-events-calendar/hackathon-2023.html
PRIORITY:1
END:VEVENT
BEGIN:VEVENT
DTSTART;TZID=Australia/Brisbane:20231004T085500
DTEND;TZID=Australia/Brisbane:20231004T090000
DTSTAMP:20260424T021149Z
UID:{BC5E1956-3F7D-4A60-9ADF8039782E2573.45203}
LOCATION:Attend In-Person or Virtually
SUMMARY:Hackathon 2023
DESCRIPTION:Join us at RIMPA Hackathon 2023 for a weekend of innovation and teamwork! Gather your squad to tackle industry challenges and vie for a chance to win $10,000. Ignite your problem-solving skills and seize the opportunity to make a real impact. Dive into the exciting world of technology and creativity from. Don't miss out on this chance to shine and shape the future!\n
 \n
 Event details: https://www.rimpa.com.au/events/ems-events-calendar/hackathon-2023.html
PRIORITY:1
END:VEVENT
END:VCALENDAR