BEGIN:VCALENDAR
PRODID:-//Pixl8//Eventfolio//EN
VERSION:2.0
X-WR-TIMEZONE:Australia/Brisbane
CALSCALE:GREGORIAN
METHOD:PUBLISH
CLASS:PUBLIC
BEGIN:VTIMEZONE
TZID:Australia/Brisbane
LAST-MODIFIED:20260306T231828Z
TZURL:https://www.tzurl.org/zoneinfo-outlook/Australia/Brisbane
X-LIC-LOCATION:Australia/Brisbane
BEGIN:STANDARD
TZNAME:AEST
TZOFFSETFROM:+1000
TZOFFSETTO:+1000
DTSTART:19700101T000000
END:STANDARD
END:VTIMEZONE
BEGIN:VEVENT
DTSTART;TZID=Australia/Brisbane:20230517T090000
DTEND;TZID=Australia/Brisbane:20230517T120000
DTSTAMP:20260424T055206Z
UID:{CCAFD184-D7F3-4071-B01253154C21CDE4}
LOCATION:Online - Microsoft Teams
SUMMARY:Impact of Information Security to Records Management
DESCRIPTION:We all work with information and with all the information that we hold, the threat of information security comes in.\n
 \n
 Event details: https://www.rimpa.com.au/events/ems-events-calendar/impact-of-information-security-to-records-management.html
PRIORITY:1
END:VEVENT
END:VCALENDAR