BEGIN:VCALENDAR
PRODID:-//Pixl8//Eventfolio//EN
VERSION:2.0
X-WR-TIMEZONE:Australia/Brisbane
CALSCALE:GREGORIAN
METHOD:PUBLISH
CLASS:PUBLIC
BEGIN:VTIMEZONE
TZID:Australia/Brisbane
LAST-MODIFIED:20260306T231828Z
TZURL:https://www.tzurl.org/zoneinfo-outlook/Australia/Brisbane
X-LIC-LOCATION:Australia/Brisbane
BEGIN:STANDARD
TZNAME:AEST
TZOFFSETFROM:+1000
TZOFFSETTO:+1000
DTSTART:19700101T000000
END:STANDARD
END:VTIMEZONE
BEGIN:VEVENT
DTSTART;TZID=Australia/Brisbane:20230629T130000
DTEND;TZID=Australia/Brisbane:20230629T160000
DTSTAMP:20260424T055406Z
UID:{7FB23F3B-BAC3-4C8B-A4AB890386D01449}
LOCATION:Online - Microsoft Teams
SUMMARY:Information and Records Management Fundamentals
DESCRIPTION:So, what is a record? Isn’t this a question that we ask ourselves? Why do we need to manage records?\n
 \n
 Event details: https://www.rimpa.com.au/events/ems-events-calendar/information-and-records-management-fundamentals.html
PRIORITY:1
END:VEVENT
END:VCALENDAR