BEGIN:VCALENDAR
PRODID:-//Pixl8//Eventfolio//EN
VERSION:2.0
X-WR-TIMEZONE:Australia/Brisbane
CALSCALE:GREGORIAN
METHOD:PUBLISH
CLASS:PUBLIC
BEGIN:VTIMEZONE
TZID:Australia/Brisbane
LAST-MODIFIED:20260306T231828Z
TZURL:https://www.tzurl.org/zoneinfo-outlook/Australia/Brisbane
X-LIC-LOCATION:Australia/Brisbane
BEGIN:STANDARD
TZNAME:AEST
TZOFFSETFROM:+1000
TZOFFSETTO:+1000
DTSTART:19700101T000000
END:STANDARD
END:VTIMEZONE
BEGIN:VEVENT
DTSTART;TZID=Australia/Brisbane:20230803T100000
DTEND;TZID=Australia/Brisbane:20230803T130000
DTSTAMP:20260424T021319Z
UID:{FEB5E7E6-5639-4FE8-B83ABE2B97BD29A8}
LOCATION:Online - Microsoft Teams
SUMMARY:Information Governance Framework
DESCRIPTION:With an overload of information, organisations need to understand the importance of the environment where the information sits.\n
 \n
 Event details: https://www.rimpa.com.au/events/ems-events-calendar/information-governance-framework-03-08-2023.html
PRIORITY:1
END:VEVENT
END:VCALENDAR