BEGIN:VCALENDAR
PRODID:-//Pixl8//Eventfolio//EN
VERSION:2.0
X-WR-TIMEZONE:Australia/Brisbane
CALSCALE:GREGORIAN
METHOD:PUBLISH
CLASS:PUBLIC
BEGIN:VTIMEZONE
TZID:Australia/Brisbane
LAST-MODIFIED:20260306T231828Z
TZURL:https://www.tzurl.org/zoneinfo-outlook/Australia/Brisbane
X-LIC-LOCATION:Australia/Brisbane
BEGIN:STANDARD
TZNAME:AEST
TZOFFSETFROM:+1000
TZOFFSETTO:+1000
DTSTART:19700101T000000
END:STANDARD
END:VTIMEZONE
BEGIN:VEVENT
DTSTART;TZID=Australia/Brisbane;VALUE=DATE:20230930
DTEND;TZID=Australia/Brisbane;VALUE=DATE:20231001
DTSTAMP:20260423T211536Z
UID:{42FEA91B-C673-4028-A01555CF92E4B519}
LOCATION:
SUMMARY:Information Management Soft Skills Bundle
DESCRIPTION:Event details: https://www.rimpa.com.au/events/ems-events-calendar/information-management-soft-skills-bundle.html
PRIORITY:1
END:VEVENT
END:VCALENDAR