BEGIN:VCALENDAR
PRODID:-//Pixl8//Eventfolio//EN
VERSION:2.0
X-WR-TIMEZONE:Australia/Brisbane
CALSCALE:GREGORIAN
METHOD:PUBLISH
CLASS:PUBLIC
BEGIN:VTIMEZONE
TZID:Australia/Brisbane
LAST-MODIFIED:20260306T231828Z
TZURL:https://www.tzurl.org/zoneinfo-outlook/Australia/Brisbane
X-LIC-LOCATION:Australia/Brisbane
BEGIN:STANDARD
TZNAME:AEST
TZOFFSETFROM:+1000
TZOFFSETTO:+1000
DTSTART:19700101T000000
END:STANDARD
END:VTIMEZONE
BEGIN:VEVENT
DTSTART;TZID=Australia/Brisbane:20250708T100000
DTEND;TZID=Australia/Brisbane:20250708T130000
DTSTAMP:20260424T021455Z
UID:{6DF378E9-B5B3-412D-8795894BBCEBCE91}
LOCATION:Online - Microsoft Teams
SUMMARY:Information Privacy (Australia)
DESCRIPTION:Understanding of the Australian Information Privacy laws.\n
 \n
 Event details: https://www.rimpa.com.au/events/ems-events-calendar/information-privacy-australia-08-07-2025.html
PRIORITY:1
END:VEVENT
END:VCALENDAR