BEGIN:VCALENDAR
PRODID:-//Pixl8//Eventfolio//EN
VERSION:2.0
X-WR-TIMEZONE:Australia/Brisbane
CALSCALE:GREGORIAN
METHOD:PUBLISH
CLASS:PUBLIC
BEGIN:VTIMEZONE
TZID:Australia/Brisbane
LAST-MODIFIED:20260306T231828Z
TZURL:https://www.tzurl.org/zoneinfo-outlook/Australia/Brisbane
X-LIC-LOCATION:Australia/Brisbane
BEGIN:STANDARD
TZNAME:AEST
TZOFFSETFROM:+1000
TZOFFSETTO:+1000
DTSTART:19700101T000000
END:STANDARD
END:VTIMEZONE
BEGIN:VEVENT
DTSTART;TZID=Australia/Brisbane:20250304T100000
DTEND;TZID=Australia/Brisbane:20250304T130000
DTSTAMP:20260424T083032Z
UID:{8F943F0A-BA2B-43F5-91FD939F41FA2760}
LOCATION:Online - Microsoft Teams
SUMMARY:Information Privacy (New Zealand) 
DESCRIPTION:Understanding of the New Zealand Privacy Act and effective data protection strategies.\n
 \n
 Event details: https://www.rimpa.com.au/events/ems-events-calendar/information-privacy-new-zealand.html
PRIORITY:1
END:VEVENT
END:VCALENDAR