BEGIN:VCALENDAR
PRODID:-//Pixl8//Eventfolio//EN
VERSION:2.0
X-WR-TIMEZONE:Australia/Brisbane
CALSCALE:GREGORIAN
METHOD:PUBLISH
CLASS:PUBLIC
BEGIN:VTIMEZONE
TZID:Australia/Brisbane
LAST-MODIFIED:20260306T231828Z
TZURL:https://www.tzurl.org/zoneinfo-outlook/Australia/Brisbane
X-LIC-LOCATION:Australia/Brisbane
BEGIN:STANDARD
TZNAME:AEST
TZOFFSETFROM:+1000
TZOFFSETTO:+1000
DTSTART:19700101T000000
END:STANDARD
END:VTIMEZONE
BEGIN:VEVENT
DTSTART;TZID=Australia/Brisbane:20251127T100000
DTEND;TZID=Australia/Brisbane:20251127T130000
DTSTAMP:20260423T210834Z
UID:{88A5007A-3E2A-48E5-83FCE9DD352A94ED}
LOCATION:Online - Microsoft Teams
SUMMARY:Information Security Impact on Records & Information Management 
DESCRIPTION:Discover how to safeguard your organisation's invaluable data! Explore the connection between Information Security and Records Management.\n
 \n
 Event details: https://www.rimpa.com.au/events/ems-events-calendar/information-security-impact-on-records-information-management.html
PRIORITY:1
END:VEVENT
END:VCALENDAR