BEGIN:VCALENDAR
PRODID:-//Pixl8//Eventfolio//EN
VERSION:2.0
X-WR-TIMEZONE:Australia/Brisbane
CALSCALE:GREGORIAN
METHOD:PUBLISH
CLASS:PUBLIC
BEGIN:VTIMEZONE
TZID:Australia/Brisbane
LAST-MODIFIED:20260306T231828Z
TZURL:https://www.tzurl.org/zoneinfo-outlook/Australia/Brisbane
X-LIC-LOCATION:Australia/Brisbane
BEGIN:STANDARD
TZNAME:AEST
TZOFFSETFROM:+1000
TZOFFSETTO:+1000
DTSTART:19700101T000000
END:STANDARD
END:VTIMEZONE
BEGIN:VEVENT
DTSTART;TZID=Australia/Brisbane:20240416T153000
DTEND;TZID=Australia/Brisbane:20240416T183000
DTSTAMP:20260424T034303Z
UID:{EDF80955-6AC1-4732-AE7763ED127046E5.45398}
LOCATION:
SUMMARY:Introduction to Advocacy 
DESCRIPTION:Do you know the benefits of advocacy in your workplace?\n
 \n
 Event details: https://www.rimpa.com.au/events/ems-events-calendar/introduction-to-advocacy1.html
PRIORITY:1
END:VEVENT
BEGIN:VEVENT
DTSTART;TZID=Australia/Brisbane:20240418T153000
DTEND;TZID=Australia/Brisbane:20240418T183000
DTSTAMP:20260424T034303Z
UID:{EDF80955-6AC1-4732-AE7763ED127046E5.45400}
LOCATION:
SUMMARY:Introduction to Advocacy 
DESCRIPTION:Do you know the benefits of advocacy in your workplace?\n
 \n
 Event details: https://www.rimpa.com.au/events/ems-events-calendar/introduction-to-advocacy1.html
PRIORITY:1
END:VEVENT
END:VCALENDAR