BEGIN:VCALENDAR
PRODID:-//Pixl8//Eventfolio//EN
VERSION:2.0
X-WR-TIMEZONE:Australia/Brisbane
CALSCALE:GREGORIAN
METHOD:PUBLISH
CLASS:PUBLIC
BEGIN:VTIMEZONE
TZID:Australia/Brisbane
LAST-MODIFIED:20260306T231828Z
TZURL:https://www.tzurl.org/zoneinfo-outlook/Australia/Brisbane
X-LIC-LOCATION:Australia/Brisbane
BEGIN:STANDARD
TZNAME:AEST
TZOFFSETFROM:+1000
TZOFFSETTO:+1000
DTSTART:19700101T000000
END:STANDARD
END:VTIMEZONE
BEGIN:VEVENT
DTSTART;TZID=Australia/Brisbane:20230329T110000
DTEND;TZID=Australia/Brisbane:20230329T140000
DTSTAMP:20260424T005741Z
UID:{3A338794-D80C-485C-B2555BDABF6149E6}
LOCATION:Online
SUMMARY:IRM-L1 #02 Risk Management Fundamentals
DESCRIPTION:We all want everything to run smooth with no risks involved. Nevertheless, some risks are worth taking as they help us achieve our organisational goals. Managing Risks doesn’t mean there will be no risk, we sure hope that’s the case. We manage risks for us to know if they are worth taking!\n
 \n
 \n
 \n
 Risk Management protects our business, assists us in identifying, assessing, and mitigating risks that would potentially affect business operations.\n
 \n
 Event details: https://www.rimpa.com.au/events/ems-events-calendar/irm-l1-02-risk-management-fundamentals.html
PRIORITY:1
END:VEVENT
END:VCALENDAR