BEGIN:VCALENDAR
PRODID:-//Pixl8//Eventfolio//EN
VERSION:2.0
X-WR-TIMEZONE:Australia/Brisbane
CALSCALE:GREGORIAN
METHOD:PUBLISH
CLASS:PUBLIC
BEGIN:VTIMEZONE
TZID:Australia/Brisbane
LAST-MODIFIED:20260306T231828Z
TZURL:https://www.tzurl.org/zoneinfo-outlook/Australia/Brisbane
X-LIC-LOCATION:Australia/Brisbane
BEGIN:STANDARD
TZNAME:AEST
TZOFFSETFROM:+1000
TZOFFSETTO:+1000
DTSTART:19700101T000000
END:STANDARD
END:VTIMEZONE
BEGIN:VEVENT
DTSTART;TZID=Australia/Brisbane:20230405T100000
DTEND;TZID=Australia/Brisbane:20230405T130000
DTSTAMP:20260424T034512Z
UID:{522B7834-A33C-4077-846D2B2E055104E1}
LOCATION:Online - Microsoft Teams
SUMMARY:IRM-L3 #05 Records Management Strategic Planning
DESCRIPTION:Strategic planning allows us to envision the future of records management, helping to develop the required processes and procedures.\n
 \n
 Event details: https://www.rimpa.com.au/events/ems-events-calendar/irm-l3-05-records-management-strategic-planning.html
PRIORITY:1
END:VEVENT
END:VCALENDAR