BEGIN:VCALENDAR
PRODID:-//Pixl8//Eventfolio//EN
VERSION:2.0
X-WR-TIMEZONE:Australia/Brisbane
CALSCALE:GREGORIAN
METHOD:PUBLISH
CLASS:PUBLIC
BEGIN:VTIMEZONE
TZID:Australia/Brisbane
LAST-MODIFIED:20260306T231828Z
TZURL:https://www.tzurl.org/zoneinfo-outlook/Australia/Brisbane
X-LIC-LOCATION:Australia/Brisbane
BEGIN:STANDARD
TZNAME:AEST
TZOFFSETFROM:+1000
TZOFFSETTO:+1000
DTSTART:19700101T000000
END:STANDARD
END:VTIMEZONE
BEGIN:VEVENT
DTSTART;TZID=Australia/Brisbane:20230406T130000
DTEND;TZID=Australia/Brisbane:20230406T160000
DTSTAMP:20260424T021324Z
UID:{A50CAFAE-5970-49EB-AC06926CF79DD9BD}
LOCATION:Online - Microsoft Teams
SUMMARY:IRM-L4 #03 Information Asset Register Understanding & Development
DESCRIPTION:Understanding information as an asset is vital and understanding how to develop an Information Asset Register can be one of the most useful tools that an organisation can have and implement as a one-stop shop.\n
 \n
 Event details: https://www.rimpa.com.au/events/ems-events-calendar/irm-l4-03-information-asset-register-understanding-development.html
PRIORITY:1
END:VEVENT
END:VCALENDAR