BEGIN:VCALENDAR
PRODID:-//Pixl8//Eventfolio//EN
VERSION:2.0
X-WR-TIMEZONE:Australia/Brisbane
CALSCALE:GREGORIAN
METHOD:PUBLISH
CLASS:PUBLIC
BEGIN:VTIMEZONE
TZID:Australia/Brisbane
LAST-MODIFIED:20260306T231828Z
TZURL:https://www.tzurl.org/zoneinfo-outlook/Australia/Brisbane
X-LIC-LOCATION:Australia/Brisbane
BEGIN:STANDARD
TZNAME:AEST
TZOFFSETFROM:+1000
TZOFFSETTO:+1000
DTSTART:19700101T000000
END:STANDARD
END:VTIMEZONE
BEGIN:VEVENT
DTSTART;TZID=Australia/Brisbane:20230406T100000
DTEND;TZID=Australia/Brisbane:20230406T130000
DTSTAMP:20260423T211637Z
UID:{42E233B0-D212-4B3C-B02957D2E225C868}
LOCATION:Online - Microsoft Teams
SUMMARY:IRM-L4 #07 Stakeholder Management
DESCRIPTION:Managing stakeholders well will assist us in getting resources to assist with our projects, aligning business goals, staying on track and selling the change.\n
 \n
 Event details: https://www.rimpa.com.au/events/ems-events-calendar/irm-l4-07-stakeholder-management.html
PRIORITY:1
END:VEVENT
END:VCALENDAR