BEGIN:VCALENDAR
PRODID:-//Pixl8//Eventfolio//EN
VERSION:2.0
X-WR-TIMEZONE:Australia/Brisbane
CALSCALE:GREGORIAN
METHOD:PUBLISH
CLASS:PUBLIC
BEGIN:VTIMEZONE
TZID:Australia/Brisbane
LAST-MODIFIED:20260306T231828Z
TZURL:https://www.tzurl.org/zoneinfo-outlook/Australia/Brisbane
X-LIC-LOCATION:Australia/Brisbane
BEGIN:STANDARD
TZNAME:AEST
TZOFFSETFROM:+1000
TZOFFSETTO:+1000
DTSTART:19700101T000000
END:STANDARD
END:VTIMEZONE
BEGIN:VEVENT
DTSTART;TZID=Australia/Brisbane:20251028T130000
DTEND;TZID=Australia/Brisbane:20251028T152500
DTSTAMP:20260424T010352Z
UID:{42592BAF-B3EA-4A39-82E002E3022D90F9}
LOCATION: Pullman & Mercure Melbourne Albert Park\, 65 Queens Rd\, Albert Park VIC 3004
SUMMARY:Local Government Community of Practice Meeting
DESCRIPTION:Connect with local government professionals from across Australia to share insights, spark ideas, and strengthen information management practices at our upcoming Community of Practice meeting.\n
 \n
 Event details: https://www.rimpa.com.au/events/ems-events-calendar/local-government-community-of-practice-meeting.html
PRIORITY:1
END:VEVENT
END:VCALENDAR