BEGIN:VCALENDAR
PRODID:-//Pixl8//Eventfolio//EN
VERSION:2.0
X-WR-TIMEZONE:Australia/Brisbane
CALSCALE:GREGORIAN
METHOD:PUBLISH
CLASS:PUBLIC
BEGIN:VTIMEZONE
TZID:Australia/Brisbane
LAST-MODIFIED:20260306T231828Z
TZURL:https://www.tzurl.org/zoneinfo-outlook/Australia/Brisbane
X-LIC-LOCATION:Australia/Brisbane
BEGIN:STANDARD
TZNAME:AEST
TZOFFSETFROM:+1000
TZOFFSETTO:+1000
DTSTART:19700101T000000
END:STANDARD
END:VTIMEZONE
BEGIN:VEVENT
DTSTART;TZID=Australia/Brisbane:20250819T110000
DTEND;TZID=Australia/Brisbane:20250819T143000
DTSTAMP:20260424T021402Z
UID:{04DE9401-99A5-4474-9EFA481DE536C7A3.45888}
LOCATION:Online - Microsoft Teams
SUMMARY:Masterclass | Unlocking the Potential of Information Management 
DESCRIPTION:Transform IM from support function to strategic force. This hands-on, instructor-led series based on the MIMS eBook Series by Anne Cornish CSRIM MRIM (Life) - CEO RIMPA Global equips you with the tools to lead, influence, and create lasting value.\n
 \n
 Event details: https://www.rimpa.com.au/events/ems-events-calendar/masterclass-unlocking-the-potential-of-information-management.html
PRIORITY:1
END:VEVENT
BEGIN:VEVENT
DTSTART;TZID=Australia/Brisbane:20250902T100000
DTEND;TZID=Australia/Brisbane:20250902T120000
DTSTAMP:20260424T021402Z
UID:{04DE9401-99A5-4474-9EFA481DE536C7A3.45902}
LOCATION:Online - Microsoft Teams
SUMMARY:Masterclass | Unlocking the Potential of Information Management 
DESCRIPTION:Transform IM from support function to strategic force. This hands-on, instructor-led series based on the MIMS eBook Series by Anne Cornish CSRIM MRIM (Life) - CEO RIMPA Global equips you with the tools to lead, influence, and create lasting value.\n
 \n
 Event details: https://www.rimpa.com.au/events/ems-events-calendar/masterclass-unlocking-the-potential-of-information-management.html
PRIORITY:1
END:VEVENT
BEGIN:VEVENT
DTSTART;TZID=Australia/Brisbane:20250916T100000
DTEND;TZID=Australia/Brisbane:20250916T120000
DTSTAMP:20260424T021402Z
UID:{04DE9401-99A5-4474-9EFA481DE536C7A3.45916}
LOCATION:Online - Microsoft Teams
SUMMARY:Masterclass | Unlocking the Potential of Information Management 
DESCRIPTION:Transform IM from support function to strategic force. This hands-on, instructor-led series based on the MIMS eBook Series by Anne Cornish CSRIM MRIM (Life) - CEO RIMPA Global equips you with the tools to lead, influence, and create lasting value.\n
 \n
 Event details: https://www.rimpa.com.au/events/ems-events-calendar/masterclass-unlocking-the-potential-of-information-management.html
PRIORITY:1
END:VEVENT
BEGIN:VEVENT
DTSTART;TZID=Australia/Brisbane:20250930T100000
DTEND;TZID=Australia/Brisbane:20250930T120000
DTSTAMP:20260424T021402Z
UID:{04DE9401-99A5-4474-9EFA481DE536C7A3.45930}
LOCATION:Online - Microsoft Teams
SUMMARY:Masterclass | Unlocking the Potential of Information Management 
DESCRIPTION:Transform IM from support function to strategic force. This hands-on, instructor-led series based on the MIMS eBook Series by Anne Cornish CSRIM MRIM (Life) - CEO RIMPA Global equips you with the tools to lead, influence, and create lasting value.\n
 \n
 Event details: https://www.rimpa.com.au/events/ems-events-calendar/masterclass-unlocking-the-potential-of-information-management.html
PRIORITY:1
END:VEVENT
BEGIN:VEVENT
DTSTART;TZID=Australia/Brisbane:20251014T100000
DTEND;TZID=Australia/Brisbane:20251014T120000
DTSTAMP:20260424T021402Z
UID:{04DE9401-99A5-4474-9EFA481DE536C7A3.45944}
LOCATION:Online - Microsoft Teams
SUMMARY:Masterclass | Unlocking the Potential of Information Management 
DESCRIPTION:Transform IM from support function to strategic force. This hands-on, instructor-led series based on the MIMS eBook Series by Anne Cornish CSRIM MRIM (Life) - CEO RIMPA Global equips you with the tools to lead, influence, and create lasting value.\n
 \n
 Event details: https://www.rimpa.com.au/events/ems-events-calendar/masterclass-unlocking-the-potential-of-information-management.html
PRIORITY:1
END:VEVENT
END:VCALENDAR