BEGIN:VCALENDAR
PRODID:-//Pixl8//Eventfolio//EN
VERSION:2.0
X-WR-TIMEZONE:Australia/Brisbane
CALSCALE:GREGORIAN
METHOD:PUBLISH
CLASS:PUBLIC
BEGIN:VTIMEZONE
TZID:Australia/Brisbane
LAST-MODIFIED:20260306T231828Z
TZURL:https://www.tzurl.org/zoneinfo-outlook/Australia/Brisbane
X-LIC-LOCATION:Australia/Brisbane
BEGIN:STANDARD
TZNAME:AEST
TZOFFSETFROM:+1000
TZOFFSETTO:+1000
DTSTART:19700101T000000
END:STANDARD
END:VTIMEZONE
BEGIN:VEVENT
DTSTART;TZID=Australia/Brisbane:20230727T180000
DTEND;TZID=Australia/Brisbane:20230727T184500
DTSTAMP:20260424T034319Z
UID:{22A3F0AC-1362-43A2-B6FEB20AA98CEC2A}
LOCATION:Virtual
SUMMARY: Meet your Professional Associations
DESCRIPTION:Looking for a head start in your career in Libraries, Information, Records or Archives? In this free online event targeting students, you will hear from leaders of the following Professional Associations:\n
 \n
 \n
 \n
 Australian Library and Information Association (ALIA)\n
 \n
 Records and Information Management Practitioners Alliance – Global (RIMPA)\n
 \n
 Australian Society of Archivists (ASA)\n
 \n
 Event details: https://www.rimpa.com.au/events/ems-events-calendar/meet-your-professional-associations.html
PRIORITY:1
END:VEVENT
END:VCALENDAR