BEGIN:VCALENDAR
PRODID:-//Pixl8//Eventfolio//EN
VERSION:2.0
X-WR-TIMEZONE:Australia/Melbourne
CALSCALE:GREGORIAN
METHOD:PUBLISH
CLASS:PUBLIC
BEGIN:VTIMEZONE
TZID:Australia/Melbourne
LAST-MODIFIED:20260306T231828Z
TZURL:https://www.tzurl.org/zoneinfo-outlook/Australia/Melbourne
X-LIC-LOCATION:Australia/Melbourne
BEGIN:STANDARD
TZNAME:AEST
TZOFFSETFROM:+1100
TZOFFSETTO:+1000
DTSTART:19700405T030000
RRULE:FREQ=YEARLY;BYMONTH=4;BYDAY=1SU
END:STANDARD
BEGIN:DAYLIGHT
TZNAME:AEDT
TZOFFSETFROM:+1000
TZOFFSETTO:+1100
DTSTART:19701004T020000
RRULE:FREQ=YEARLY;BYMONTH=10;BYDAY=1SU
END:DAYLIGHT
END:VTIMEZONE
BEGIN:VEVENT
DTSTART;TZID=Australia/Melbourne:20240523T083000
DTEND;TZID=Australia/Melbourne:20240523T163000
DTSTAMP:20260424T021317Z
UID:{5CCD53B9-5B91-4F32-BBD90EF6096692F0.45435}
LOCATION:Sofitel Melbourne on Collins\, 25 Collins St\, Melbourne VIC 3000
SUMMARY:Melbourne | Roadshow
DESCRIPTION:Are you ready to follow the White Rabbit? Unplug from the Matrix and join the Records Revolution, through mind-bending expert presentations at the Melbourne Roadshow. Dodge cyber bullets with security best practices, uncover information privacy and explore panel discussions and debates that challenge the Oracle’s wisdom. Choose the red pill, rewrite the code of IM and unlock your true potential, to become THE ONE in the future AI Wonderland.\n
 \n
 Event details: https://www.rimpa.com.au/events/ems-events-calendar/melbourne--roadshow.html
PRIORITY:1
END:VEVENT
END:VCALENDAR