BEGIN:VCALENDAR
PRODID:-//Pixl8//Eventfolio//EN
VERSION:2.0
X-WR-TIMEZONE:Australia/Brisbane
CALSCALE:GREGORIAN
METHOD:PUBLISH
CLASS:PUBLIC
BEGIN:VTIMEZONE
TZID:Australia/Brisbane
LAST-MODIFIED:20260306T231828Z
TZURL:https://www.tzurl.org/zoneinfo-outlook/Australia/Brisbane
X-LIC-LOCATION:Australia/Brisbane
BEGIN:STANDARD
TZNAME:AEST
TZOFFSETFROM:+1000
TZOFFSETTO:+1000
DTSTART:19700101T000000
END:STANDARD
END:VTIMEZONE
BEGIN:VEVENT
DTSTART;TZID=Australia/Brisbane:20241125T110000
DTEND;TZID=Australia/Brisbane:20241125T143000
DTSTAMP:20260424T223741Z
UID:{A8801992-8BE8-472E-ABBD05AEDE374B5C.45621}
LOCATION:
SUMMARY:Microsoft 365 Information Architecture
DESCRIPTION:In this course we will explore how Information Architecture is practically applied the Microsoft 365, considering factors such as hubs, sites, structures, columns, content types and term sets.\n
 \n
 Event details: https://www.rimpa.com.au/events/ems-events-calendar/microsoft-365-information-architecture.html
PRIORITY:1
END:VEVENT
BEGIN:VEVENT
DTSTART;TZID=Australia/Brisbane:20241126T110000
DTEND;TZID=Australia/Brisbane:20241126T143000
DTSTAMP:20260424T223741Z
UID:{A8801992-8BE8-472E-ABBD05AEDE374B5C.45622}
LOCATION:
SUMMARY:Microsoft 365 Information Architecture
DESCRIPTION:In this course we will explore how Information Architecture is practically applied the Microsoft 365, considering factors such as hubs, sites, structures, columns, content types and term sets.\n
 \n
 Event details: https://www.rimpa.com.au/events/ems-events-calendar/microsoft-365-information-architecture.html
PRIORITY:1
END:VEVENT
BEGIN:VEVENT
DTSTART;TZID=Australia/Brisbane:20241127T110000
DTEND;TZID=Australia/Brisbane:20241127T143000
DTSTAMP:20260424T223741Z
UID:{A8801992-8BE8-472E-ABBD05AEDE374B5C.45623}
LOCATION:
SUMMARY:Microsoft 365 Information Architecture
DESCRIPTION:In this course we will explore how Information Architecture is practically applied the Microsoft 365, considering factors such as hubs, sites, structures, columns, content types and term sets.\n
 \n
 Event details: https://www.rimpa.com.au/events/ems-events-calendar/microsoft-365-information-architecture.html
PRIORITY:1
END:VEVENT
BEGIN:VEVENT
DTSTART;TZID=Australia/Brisbane:20241128T110000
DTEND;TZID=Australia/Brisbane:20241128T143000
DTSTAMP:20260424T223741Z
UID:{A8801992-8BE8-472E-ABBD05AEDE374B5C.45624}
LOCATION:
SUMMARY:Microsoft 365 Information Architecture
DESCRIPTION:In this course we will explore how Information Architecture is practically applied the Microsoft 365, considering factors such as hubs, sites, structures, columns, content types and term sets.\n
 \n
 Event details: https://www.rimpa.com.au/events/ems-events-calendar/microsoft-365-information-architecture.html
PRIORITY:1
END:VEVENT
BEGIN:VEVENT
DTSTART;TZID=Australia/Brisbane:20241129T110000
DTEND;TZID=Australia/Brisbane:20241129T143000
DTSTAMP:20260424T223741Z
UID:{A8801992-8BE8-472E-ABBD05AEDE374B5C.45625}
LOCATION:
SUMMARY:Microsoft 365 Information Architecture
DESCRIPTION:In this course we will explore how Information Architecture is practically applied the Microsoft 365, considering factors such as hubs, sites, structures, columns, content types and term sets.\n
 \n
 Event details: https://www.rimpa.com.au/events/ems-events-calendar/microsoft-365-information-architecture.html
PRIORITY:1
END:VEVENT
END:VCALENDAR