BEGIN:VCALENDAR
PRODID:-//Pixl8//Eventfolio//EN
VERSION:2.0
X-WR-TIMEZONE:Australia/Brisbane
CALSCALE:GREGORIAN
METHOD:PUBLISH
CLASS:PUBLIC
BEGIN:VTIMEZONE
TZID:Australia/Brisbane
LAST-MODIFIED:20260306T231828Z
TZURL:https://www.tzurl.org/zoneinfo-outlook/Australia/Brisbane
X-LIC-LOCATION:Australia/Brisbane
BEGIN:STANDARD
TZNAME:AEST
TZOFFSETFROM:+1000
TZOFFSETTO:+1000
DTSTART:19700101T000000
END:STANDARD
END:VTIMEZONE
BEGIN:VEVENT
DTSTART;TZID=Australia/Brisbane:20250908T110000
DTEND;TZID=Australia/Brisbane:20250908T143000
DTSTAMP:20260424T005844Z
UID:{3D3DF3C7-7B8F-4983-8E1ADAC5B902A476.45908}
LOCATION:Online - Microsoft Teams
SUMMARY:Microsoft 365 Information Architecture
DESCRIPTION:In this course we will explore how Information Architecture is practically applied the Microsoft 365, considering factors such as hubs, sites, structures, columns, content types and term sets.\n
 \n
 Event details: https://www.rimpa.com.au/events/ems-events-calendar/microsoft-365-information-architecture-08-09-2025.html
PRIORITY:1
END:VEVENT
BEGIN:VEVENT
DTSTART;TZID=Australia/Brisbane:20250909T110000
DTEND;TZID=Australia/Brisbane:20250909T143000
DTSTAMP:20260424T005844Z
UID:{3D3DF3C7-7B8F-4983-8E1ADAC5B902A476.45909}
LOCATION:Online - Microsoft Teams
SUMMARY:Microsoft 365 Information Architecture
DESCRIPTION:In this course we will explore how Information Architecture is practically applied the Microsoft 365, considering factors such as hubs, sites, structures, columns, content types and term sets.\n
 \n
 Event details: https://www.rimpa.com.au/events/ems-events-calendar/microsoft-365-information-architecture-08-09-2025.html
PRIORITY:1
END:VEVENT
BEGIN:VEVENT
DTSTART;TZID=Australia/Brisbane:20250910T110000
DTEND;TZID=Australia/Brisbane:20250910T143000
DTSTAMP:20260424T005844Z
UID:{3D3DF3C7-7B8F-4983-8E1ADAC5B902A476.45910}
LOCATION:Online - Microsoft Teams
SUMMARY:Microsoft 365 Information Architecture
DESCRIPTION:In this course we will explore how Information Architecture is practically applied the Microsoft 365, considering factors such as hubs, sites, structures, columns, content types and term sets.\n
 \n
 Event details: https://www.rimpa.com.au/events/ems-events-calendar/microsoft-365-information-architecture-08-09-2025.html
PRIORITY:1
END:VEVENT
BEGIN:VEVENT
DTSTART;TZID=Australia/Brisbane:20250911T110000
DTEND;TZID=Australia/Brisbane:20250911T143000
DTSTAMP:20260424T005844Z
UID:{3D3DF3C7-7B8F-4983-8E1ADAC5B902A476.45911}
LOCATION:Online - Microsoft Teams
SUMMARY:Microsoft 365 Information Architecture
DESCRIPTION:In this course we will explore how Information Architecture is practically applied the Microsoft 365, considering factors such as hubs, sites, structures, columns, content types and term sets.\n
 \n
 Event details: https://www.rimpa.com.au/events/ems-events-calendar/microsoft-365-information-architecture-08-09-2025.html
PRIORITY:1
END:VEVENT
BEGIN:VEVENT
DTSTART;TZID=Australia/Brisbane:20250912T110000
DTEND;TZID=Australia/Brisbane:20250912T143000
DTSTAMP:20260424T005844Z
UID:{3D3DF3C7-7B8F-4983-8E1ADAC5B902A476.45912}
LOCATION:Online - Microsoft Teams
SUMMARY:Microsoft 365 Information Architecture
DESCRIPTION:In this course we will explore how Information Architecture is practically applied the Microsoft 365, considering factors such as hubs, sites, structures, columns, content types and term sets.\n
 \n
 Event details: https://www.rimpa.com.au/events/ems-events-calendar/microsoft-365-information-architecture-08-09-2025.html
PRIORITY:1
END:VEVENT
END:VCALENDAR