BEGIN:VCALENDAR
PRODID:-//Pixl8//Eventfolio//EN
VERSION:2.0
X-WR-TIMEZONE:Australia/Brisbane
CALSCALE:GREGORIAN
METHOD:PUBLISH
CLASS:PUBLIC
BEGIN:VTIMEZONE
TZID:Australia/Brisbane
LAST-MODIFIED:20260306T231828Z
TZURL:https://www.tzurl.org/zoneinfo-outlook/Australia/Brisbane
X-LIC-LOCATION:Australia/Brisbane
BEGIN:STANDARD
TZNAME:AEST
TZOFFSETFROM:+1000
TZOFFSETTO:+1000
DTSTART:19700101T000000
END:STANDARD
END:VTIMEZONE
BEGIN:VEVENT
DTSTART;TZID=Australia/Brisbane:20250729T100000
DTEND;TZID=Australia/Brisbane:20250729T143000
DTSTAMP:20260424T055045Z
UID:{C4E350F7-133B-4CA8-871D19A78968FA30.45867}
LOCATION:Online - Microsoft Teams
SUMMARY:Microsoft 365 Purview IP & Data Loss Prevention
DESCRIPTION:Master Microsoft 365’s Info Protection & DLP Tools — Stay in Control of Your Data!\n
 \n
 Event details: https://www.rimpa.com.au/events/ems-events-calendar/microsoft-365-purview-ip-data-loss-prevention.html
PRIORITY:1
END:VEVENT
BEGIN:VEVENT
DTSTART;TZID=Australia/Brisbane:20250730T100000
DTEND;TZID=Australia/Brisbane:20250730T140000
DTSTAMP:20260424T055045Z
UID:{C4E350F7-133B-4CA8-871D19A78968FA30.45868}
LOCATION:Online - Microsoft Teams
SUMMARY:Microsoft 365 Purview IP & Data Loss Prevention
DESCRIPTION:Master Microsoft 365’s Info Protection & DLP Tools — Stay in Control of Your Data!\n
 \n
 Event details: https://www.rimpa.com.au/events/ems-events-calendar/microsoft-365-purview-ip-data-loss-prevention.html
PRIORITY:1
END:VEVENT
BEGIN:VEVENT
DTSTART;TZID=Australia/Brisbane:20250731T100000
DTEND;TZID=Australia/Brisbane:20250731T140000
DTSTAMP:20260424T055045Z
UID:{C4E350F7-133B-4CA8-871D19A78968FA30.45869}
LOCATION:Online - Microsoft Teams
SUMMARY:Microsoft 365 Purview IP & Data Loss Prevention
DESCRIPTION:Master Microsoft 365’s Info Protection & DLP Tools — Stay in Control of Your Data!\n
 \n
 Event details: https://www.rimpa.com.au/events/ems-events-calendar/microsoft-365-purview-ip-data-loss-prevention.html
PRIORITY:1
END:VEVENT
END:VCALENDAR