BEGIN:VCALENDAR
PRODID:-//Pixl8//Eventfolio//EN
VERSION:2.0
X-WR-TIMEZONE:Australia/Brisbane
CALSCALE:GREGORIAN
METHOD:PUBLISH
CLASS:PUBLIC
BEGIN:VTIMEZONE
TZID:Australia/Brisbane
LAST-MODIFIED:20260306T231828Z
TZURL:https://www.tzurl.org/zoneinfo-outlook/Australia/Brisbane
X-LIC-LOCATION:Australia/Brisbane
BEGIN:STANDARD
TZNAME:AEST
TZOFFSETFROM:+1000
TZOFFSETTO:+1000
DTSTART:19700101T000000
END:STANDARD
END:VTIMEZONE
BEGIN:VEVENT
DTSTART;TZID=Australia/Brisbane:20250520T100000
DTEND;TZID=Australia/Brisbane:20250520T140000
DTSTAMP:20260421T101812Z
UID:{19CF803A-6598-46B3-A0BAE4FA059CB835.45797}
LOCATION:
SUMMARY:Microsoft 365 Purview Records Management
DESCRIPTION:An understanding of the most up-to-date technology underpinned by records management best practices and standards\n
 \n
 Event details: https://www.rimpa.com.au/events/ems-events-calendar/microsoft-365-purview-records-management-20-05-25.html
PRIORITY:1
END:VEVENT
BEGIN:VEVENT
DTSTART;TZID=Australia/Brisbane:20250521T100000
DTEND;TZID=Australia/Brisbane:20250521T140000
DTSTAMP:20260421T101812Z
UID:{19CF803A-6598-46B3-A0BAE4FA059CB835.45798}
LOCATION:
SUMMARY:Microsoft 365 Purview Records Management
DESCRIPTION:An understanding of the most up-to-date technology underpinned by records management best practices and standards\n
 \n
 Event details: https://www.rimpa.com.au/events/ems-events-calendar/microsoft-365-purview-records-management-20-05-25.html
PRIORITY:1
END:VEVENT
BEGIN:VEVENT
DTSTART;TZID=Australia/Brisbane:20250522T100000
DTEND;TZID=Australia/Brisbane:20250522T140000
DTSTAMP:20260421T101812Z
UID:{19CF803A-6598-46B3-A0BAE4FA059CB835.45799}
LOCATION:
SUMMARY:Microsoft 365 Purview Records Management
DESCRIPTION:An understanding of the most up-to-date technology underpinned by records management best practices and standards\n
 \n
 Event details: https://www.rimpa.com.au/events/ems-events-calendar/microsoft-365-purview-records-management-20-05-25.html
PRIORITY:1
END:VEVENT
END:VCALENDAR