BEGIN:VCALENDAR
PRODID:-//Pixl8//Eventfolio//EN
VERSION:2.0
X-WR-TIMEZONE:Australia/Brisbane
CALSCALE:GREGORIAN
METHOD:PUBLISH
CLASS:PUBLIC
BEGIN:VTIMEZONE
TZID:Australia/Brisbane
LAST-MODIFIED:20260306T231828Z
TZURL:https://www.tzurl.org/zoneinfo-outlook/Australia/Brisbane
X-LIC-LOCATION:Australia/Brisbane
BEGIN:STANDARD
TZNAME:AEST
TZOFFSETFROM:+1000
TZOFFSETTO:+1000
DTSTART:19700101T000000
END:STANDARD
END:VTIMEZONE
BEGIN:VEVENT
DTSTART;TZID=Australia/Brisbane:20260623T100000
DTEND;TZID=Australia/Brisbane:20260623T140000
DTSTAMP:20260423T185722Z
UID:{E64D9B9E-0297-4298-8F51A2725D4123DB.46196}
LOCATION:Online - Microsoft Teams
SUMMARY:Microsoft 365 Purview Records Management Course
DESCRIPTION:An understanding of the most up-to-date technology underpinned by records management best practices and standards\n
 \n
 Event details: https://www.rimpa.com.au/events/ems-events-calendar/microsoft-365-purview-records-management-cour.html
PRIORITY:1
END:VEVENT
BEGIN:VEVENT
DTSTART;TZID=Australia/Brisbane:20260624T100000
DTEND;TZID=Australia/Brisbane:20260624T140000
DTSTAMP:20260423T185722Z
UID:{E64D9B9E-0297-4298-8F51A2725D4123DB.46197}
LOCATION:Online - Microsoft Teams
SUMMARY:Microsoft 365 Purview Records Management Course
DESCRIPTION:An understanding of the most up-to-date technology underpinned by records management best practices and standards\n
 \n
 Event details: https://www.rimpa.com.au/events/ems-events-calendar/microsoft-365-purview-records-management-cour.html
PRIORITY:1
END:VEVENT
BEGIN:VEVENT
DTSTART;TZID=Australia/Brisbane:20260625T100000
DTEND;TZID=Australia/Brisbane:20260625T140000
DTSTAMP:20260423T185722Z
UID:{E64D9B9E-0297-4298-8F51A2725D4123DB.46198}
LOCATION:Online - Microsoft Teams
SUMMARY:Microsoft 365 Purview Records Management Course
DESCRIPTION:An understanding of the most up-to-date technology underpinned by records management best practices and standards\n
 \n
 Event details: https://www.rimpa.com.au/events/ems-events-calendar/microsoft-365-purview-records-management-cour.html
PRIORITY:1
END:VEVENT
END:VCALENDAR