BEGIN:VCALENDAR
PRODID:-//Pixl8//Eventfolio//EN
VERSION:2.0
X-WR-TIMEZONE:Australia/Brisbane
CALSCALE:GREGORIAN
METHOD:PUBLISH
CLASS:PUBLIC
BEGIN:VTIMEZONE
TZID:Australia/Brisbane
LAST-MODIFIED:20260306T231828Z
TZURL:https://www.tzurl.org/zoneinfo-outlook/Australia/Brisbane
X-LIC-LOCATION:Australia/Brisbane
BEGIN:STANDARD
TZNAME:AEST
TZOFFSETFROM:+1000
TZOFFSETTO:+1000
DTSTART:19700101T000000
END:STANDARD
END:VTIMEZONE
BEGIN:VEVENT
DTSTART;TZID=Australia/Brisbane:20260407T100000
DTEND;TZID=Australia/Brisbane:20260407T140000
DTSTAMP:20260423T011442Z
UID:{4C0DE8D8-CBBA-4EE0-A7D1F6AA4502FB12.46119}
LOCATION:Online - Microsoft Teams
SUMMARY:Microsoft 365 Purview Records Management Course
DESCRIPTION:An understanding of the most up-to-date technology underpinned by records management best practices and standards\n
 \n
 Event details: https://www.rimpa.com.au/events/ems-events-calendar/microsoft-365-purview-records-management-course.html
PRIORITY:1
END:VEVENT
BEGIN:VEVENT
DTSTART;TZID=Australia/Brisbane:20260408T100000
DTEND;TZID=Australia/Brisbane:20260408T140000
DTSTAMP:20260423T011442Z
UID:{4C0DE8D8-CBBA-4EE0-A7D1F6AA4502FB12.46120}
LOCATION:Online - Microsoft Teams
SUMMARY:Microsoft 365 Purview Records Management Course
DESCRIPTION:An understanding of the most up-to-date technology underpinned by records management best practices and standards\n
 \n
 Event details: https://www.rimpa.com.au/events/ems-events-calendar/microsoft-365-purview-records-management-course.html
PRIORITY:1
END:VEVENT
BEGIN:VEVENT
DTSTART;TZID=Australia/Brisbane:20260409T100000
DTEND;TZID=Australia/Brisbane:20260409T140000
DTSTAMP:20260423T011442Z
UID:{4C0DE8D8-CBBA-4EE0-A7D1F6AA4502FB12.46121}
LOCATION:Online - Microsoft Teams
SUMMARY:Microsoft 365 Purview Records Management Course
DESCRIPTION:An understanding of the most up-to-date technology underpinned by records management best practices and standards\n
 \n
 Event details: https://www.rimpa.com.au/events/ems-events-calendar/microsoft-365-purview-records-management-course.html
PRIORITY:1
END:VEVENT
END:VCALENDAR