BEGIN:VCALENDAR
PRODID:-//Pixl8//Eventfolio//EN
VERSION:2.0
X-WR-TIMEZONE:Australia/Brisbane
CALSCALE:GREGORIAN
METHOD:PUBLISH
CLASS:PUBLIC
BEGIN:VTIMEZONE
TZID:Australia/Brisbane
LAST-MODIFIED:20260306T231828Z
TZURL:https://www.tzurl.org/zoneinfo-outlook/Australia/Brisbane
X-LIC-LOCATION:Australia/Brisbane
BEGIN:STANDARD
TZNAME:AEST
TZOFFSETFROM:+1000
TZOFFSETTO:+1000
DTSTART:19700101T000000
END:STANDARD
END:VTIMEZONE
BEGIN:VEVENT
DTSTART;TZID=Australia/Brisbane:20251125T100000
DTEND;TZID=Australia/Brisbane:20251125T140000
DTSTAMP:20260424T034039Z
UID:{B8B90CF0-A858-4384-84712A6977207155.45986}
LOCATION:Online - Microsoft Teams
SUMMARY:Microsoft 365 SharePoint Premium
DESCRIPTION:Explore the full capabilities of SharePoint Premium, build your skills through hands-on practice, and gain the confidence to deliver smarter document solutions.\n
 \n
 Event details: https://www.rimpa.com.au/events/ems-events-calendar/microsoft-365-sharepoint-premium.html
PRIORITY:1
END:VEVENT
BEGIN:VEVENT
DTSTART;TZID=Australia/Brisbane:20251126T100000
DTEND;TZID=Australia/Brisbane:20251126T140000
DTSTAMP:20260424T034039Z
UID:{B8B90CF0-A858-4384-84712A6977207155.45987}
LOCATION:Online - Microsoft Teams
SUMMARY:Microsoft 365 SharePoint Premium
DESCRIPTION:Explore the full capabilities of SharePoint Premium, build your skills through hands-on practice, and gain the confidence to deliver smarter document solutions.\n
 \n
 Event details: https://www.rimpa.com.au/events/ems-events-calendar/microsoft-365-sharepoint-premium.html
PRIORITY:1
END:VEVENT
BEGIN:VEVENT
DTSTART;TZID=Australia/Brisbane:20251127T100000
DTEND;TZID=Australia/Brisbane:20251127T150000
DTSTAMP:20260424T034039Z
UID:{B8B90CF0-A858-4384-84712A6977207155.45988}
LOCATION:Online - Microsoft Teams
SUMMARY:Microsoft 365 SharePoint Premium
DESCRIPTION:Explore the full capabilities of SharePoint Premium, build your skills through hands-on practice, and gain the confidence to deliver smarter document solutions.\n
 \n
 Event details: https://www.rimpa.com.au/events/ems-events-calendar/microsoft-365-sharepoint-premium.html
PRIORITY:1
END:VEVENT
BEGIN:VEVENT
DTSTART;TZID=Australia/Brisbane:20251128T100000
DTEND;TZID=Australia/Brisbane:20251128T150000
DTSTAMP:20260424T034039Z
UID:{B8B90CF0-A858-4384-84712A6977207155.45989}
LOCATION:Online - Microsoft Teams
SUMMARY:Microsoft 365 SharePoint Premium
DESCRIPTION:Explore the full capabilities of SharePoint Premium, build your skills through hands-on practice, and gain the confidence to deliver smarter document solutions.\n
 \n
 Event details: https://www.rimpa.com.au/events/ems-events-calendar/microsoft-365-sharepoint-premium.html
PRIORITY:1
END:VEVENT
END:VCALENDAR