BEGIN:VCALENDAR
PRODID:-//Pixl8//Eventfolio//EN
VERSION:2.0
X-WR-TIMEZONE:Australia/Brisbane
CALSCALE:GREGORIAN
METHOD:PUBLISH
CLASS:PUBLIC
BEGIN:VTIMEZONE
TZID:Australia/Brisbane
LAST-MODIFIED:20260306T231828Z
TZURL:https://www.tzurl.org/zoneinfo-outlook/Australia/Brisbane
X-LIC-LOCATION:Australia/Brisbane
BEGIN:STANDARD
TZNAME:AEST
TZOFFSETFROM:+1000
TZOFFSETTO:+1000
DTSTART:19700101T000000
END:STANDARD
END:VTIMEZONE
BEGIN:VEVENT
DTSTART;TZID=Australia/Brisbane:20251015T100000
DTEND;TZID=Australia/Brisbane:20251015T140000
DTSTAMP:20260424T021437Z
UID:{3A91EEC6-6390-43F8-8DC7D3BB6B1D47DC.45945}
LOCATION:Online - Microsoft Teams
SUMMARY:Microsoft 365 SharePoint Super User
DESCRIPTION:As an administrator or manager, it is important to understand the structure and features of SharePoint Online.\n
 \n
 Event details: https://www.rimpa.com.au/events/ems-events-calendar/microsoft-365-sharepoint-super-user-15-16-10-2025.html
PRIORITY:1
END:VEVENT
BEGIN:VEVENT
DTSTART;TZID=Australia/Brisbane:20251016T100000
DTEND;TZID=Australia/Brisbane:20251016T140000
DTSTAMP:20260424T021437Z
UID:{3A91EEC6-6390-43F8-8DC7D3BB6B1D47DC.45946}
LOCATION:Online - Microsoft Teams
SUMMARY:Microsoft 365 SharePoint Super User
DESCRIPTION:As an administrator or manager, it is important to understand the structure and features of SharePoint Online.\n
 \n
 Event details: https://www.rimpa.com.au/events/ems-events-calendar/microsoft-365-sharepoint-super-user-15-16-10-2025.html
PRIORITY:1
END:VEVENT
END:VCALENDAR