BEGIN:VCALENDAR
PRODID:-//Pixl8//Eventfolio//EN
VERSION:2.0
X-WR-TIMEZONE:Australia/Brisbane
CALSCALE:GREGORIAN
METHOD:PUBLISH
CLASS:PUBLIC
BEGIN:VTIMEZONE
TZID:Australia/Brisbane
LAST-MODIFIED:20260306T231828Z
TZURL:https://www.tzurl.org/zoneinfo-outlook/Australia/Brisbane
X-LIC-LOCATION:Australia/Brisbane
BEGIN:STANDARD
TZNAME:AEST
TZOFFSETFROM:+1000
TZOFFSETTO:+1000
DTSTART:19700101T000000
END:STANDARD
END:VTIMEZONE
BEGIN:VEVENT
DTSTART;TZID=Australia/Brisbane:20260512T100000
DTEND;TZID=Australia/Brisbane:20260512T130000
DTSTAMP:20260423T185728Z
UID:{F3A1BA28-291B-46D8-BB32F029A37584A5.46154}
LOCATION:Online - Microsoft Teams
SUMMARY:Microsoft 365 Teams Information Governance & Protection
DESCRIPTION:Have you implemented Microsoft Teams to support operations and are now seeking retrospective governance? Join this course to learn more.\n
 \n
 Event details: https://www.rimpa.com.au/events/ems-events-calendar/microsoft-365-teams-information-governance-protectio.html
PRIORITY:1
END:VEVENT
BEGIN:VEVENT
DTSTART;TZID=Australia/Brisbane:20260513T100000
DTEND;TZID=Australia/Brisbane:20260513T130000
DTSTAMP:20260423T185728Z
UID:{F3A1BA28-291B-46D8-BB32F029A37584A5.46155}
LOCATION:Online - Microsoft Teams
SUMMARY:Microsoft 365 Teams Information Governance & Protection
DESCRIPTION:Have you implemented Microsoft Teams to support operations and are now seeking retrospective governance? Join this course to learn more.\n
 \n
 Event details: https://www.rimpa.com.au/events/ems-events-calendar/microsoft-365-teams-information-governance-protectio.html
PRIORITY:1
END:VEVENT
END:VCALENDAR